BEGIN:VCALENDAR
VERSION:2.0
PRODID:-//Kulturraum Prien - ECPv6.15.20//NONSGML v1.0//EN
CALSCALE:GREGORIAN
METHOD:PUBLISH
X-WR-CALNAME:Kulturraum Prien
X-ORIGINAL-URL:https://kulturraum-prien.de
X-WR-CALDESC:Veranstaltungen für Kulturraum Prien
REFRESH-INTERVAL;VALUE=DURATION:PT1H
X-Robots-Tag:noindex
X-PUBLISHED-TTL:PT1H
BEGIN:VTIMEZONE
TZID:Europe/Berlin
BEGIN:DAYLIGHT
TZOFFSETFROM:+0100
TZOFFSETTO:+0200
TZNAME:CEST
DTSTART:20250330T010000
END:DAYLIGHT
BEGIN:STANDARD
TZOFFSETFROM:+0200
TZOFFSETTO:+0100
TZNAME:CET
DTSTART:20251026T010000
END:STANDARD
BEGIN:DAYLIGHT
TZOFFSETFROM:+0100
TZOFFSETTO:+0200
TZNAME:CEST
DTSTART:20260329T010000
END:DAYLIGHT
BEGIN:STANDARD
TZOFFSETFROM:+0200
TZOFFSETTO:+0100
TZNAME:CET
DTSTART:20261025T010000
END:STANDARD
BEGIN:DAYLIGHT
TZOFFSETFROM:+0100
TZOFFSETTO:+0200
TZNAME:CEST
DTSTART:20270328T010000
END:DAYLIGHT
BEGIN:STANDARD
TZOFFSETFROM:+0200
TZOFFSETTO:+0100
TZNAME:CET
DTSTART:20271031T010000
END:STANDARD
END:VTIMEZONE
BEGIN:VEVENT
DTSTART;TZID=Europe/Berlin:20260422T190000
DTEND;TZID=Europe/Berlin:20260422T200000
DTSTAMP:20260422T124330
CREATED:20251106T152806Z
LAST-MODIFIED:20260319T132919Z
UID:10006233-1776884400-1776888000@kulturraum-prien.de
SUMMARY:Pilates und Yoga mit Alexander Preinstorfer
DESCRIPTION:Alexander Preinstorfer bietet seit über 10 Jahren Kurse in Pilates\, Yoga und Bodyweight Training an. Seine Kurse sind bekannt für ihre freundliche Atmosphäre und effektiven Trainingsmethoden. Die Teilnehmer schätzen besonders die persönliche Betreuung und die professionelle Anleitung\, die ihnen hilft\, ihre Fitnessziele zu erreichen. \nAlexander Preinstorfer\nFitness- & Gesundheitscoach \nT: +49 172 9715646\nE-Mail: alexanderpreinstorfer@gmail.com\nHome Page: www.chiemsee-pilates.de \nKostenlose Beiträge zu den Themen Fitness\, Gesundheit und Ernährung.  Ich mache es dir leicht\, auf dem Laufenden zu bleiben: Auf meinen Social-Media-Kanälen stelle ich regelmäßig Übungen zu den Themen Fitness\, Gesundheit und Ernährung ein. Folge mir: \nFacebook\nInstagram
URL:https://kulturraum-prien.de/event/pilates-und-yoga-mit-alexander-preinstorfer-5/2026-04-22/
LOCATION:Kulturraum Prien\, Ernsdorfer Str. 2\, Prien\, 83209
CATEGORIES:Yoga, Pilates & Co - Balance und Stärke
END:VEVENT
BEGIN:VEVENT
DTSTART;TZID=Europe/Berlin:20260422T201500
DTEND;TZID=Europe/Berlin:20260422T220000
DTSTAMP:20260422T124330
CREATED:20260413T072037Z
LAST-MODIFIED:20260421T151540Z
UID:10007278-1776888900-1776895200@kulturraum-prien.de
SUMMARY:Stammestanz getragen von der Urkraft der Motherdrumm mit Claudia Ganser
DESCRIPTION:FILE_7023 \nStammestanz mit Claudia Ganser\ngetragen von der Urkraft der Motherdrumm\, gefūhrt mit zarter\, wilder Musik vom Klang der Motherdrumm bis hin zur Stille. \nEine Reise zum Ankommen im Kōrper ūber freien intuitiven Tanz\, hinein in deine eigene Lebendigkeit. \nDie Trommel erinnert dich an Deinen Rhythmus\, an deine Kraft\, an dein Zuhause in dir. \nLive -Klānge der Motherdrumm\, freier intuitiver Tanz \nWANN: Mittwoch 1 mal im Monat \nam 22.04. von 20:15-22 Uhr \nWO? Kulturraum Prien Ernsdorferstrasse 2\nEnergieausgleich 15 Euro \nAnmeldung unter c.ganser@yahoo.de und 01728637175 \n 
URL:https://kulturraum-prien.de/event/vital-danza-mit-claudia-ganser-5-2-5/
CATEGORIES:Tanz & Bewegung - Ausdruck pur
END:VEVENT
END:VCALENDAR