BEGIN:VCALENDAR
VERSION:2.0
PRODID:-//Kulturraum Prien - ECPv6.15.20//NONSGML v1.0//EN
CALSCALE:GREGORIAN
METHOD:PUBLISH
X-WR-CALNAME:Kulturraum Prien
X-ORIGINAL-URL:https://kulturraum-prien.de
X-WR-CALDESC:Veranstaltungen für Kulturraum Prien
REFRESH-INTERVAL;VALUE=DURATION:PT1H
X-Robots-Tag:noindex
X-PUBLISHED-TTL:PT1H
BEGIN:VTIMEZONE
TZID:Europe/Berlin
BEGIN:DAYLIGHT
TZOFFSETFROM:+0100
TZOFFSETTO:+0200
TZNAME:CEST
DTSTART:20250330T010000
END:DAYLIGHT
BEGIN:STANDARD
TZOFFSETFROM:+0200
TZOFFSETTO:+0100
TZNAME:CET
DTSTART:20251026T010000
END:STANDARD
BEGIN:DAYLIGHT
TZOFFSETFROM:+0100
TZOFFSETTO:+0200
TZNAME:CEST
DTSTART:20260329T010000
END:DAYLIGHT
BEGIN:STANDARD
TZOFFSETFROM:+0200
TZOFFSETTO:+0100
TZNAME:CET
DTSTART:20261025T010000
END:STANDARD
BEGIN:DAYLIGHT
TZOFFSETFROM:+0100
TZOFFSETTO:+0200
TZNAME:CEST
DTSTART:20270328T010000
END:DAYLIGHT
BEGIN:STANDARD
TZOFFSETFROM:+0200
TZOFFSETTO:+0100
TZNAME:CET
DTSTART:20271031T010000
END:STANDARD
END:VTIMEZONE
BEGIN:VEVENT
DTSTART;TZID=Europe/Berlin:20260423T093000
DTEND;TZID=Europe/Berlin:20260423T103000
DTSTAMP:20260423T123954
CREATED:20260317T174734Z
LAST-MODIFIED:20260317T174734Z
UID:10007714-1776936600-1776940200@kulturraum-prien.de
SUMMARY:Kerstin Hilker privat
DESCRIPTION:info@kerstinhilker.de
URL:https://kulturraum-prien.de/event/kerstin-hilker-privat-33/
LOCATION:Kulturraum Prien\, Ernsdorfer Str. 2\, Prien\, 83209
CATEGORIES:Tanz & Bewegung - Ausdruck pur
END:VEVENT
BEGIN:VEVENT
DTSTART;TZID=Europe/Berlin:20260423T110000
DTEND;TZID=Europe/Berlin:20260423T120000
DTSTAMP:20260423T123954
CREATED:20260309T113226Z
LAST-MODIFIED:20260309T113448Z
UID:10007685-1776942000-1776945600@kulturraum-prien.de
SUMMARY:Qi Gong mit Cornelia
DESCRIPTION:  \ncornelia-schroeder.net
URL:https://kulturraum-prien.de/event/qi-gong-mit-cornelia-4/2026-04-23/
LOCATION:Kulturraum Prien\, Ernsdorfer Str. 2\, Prien\, 83209
CATEGORIES:Meditation & Qi Gong - Dein Weg zu innerer Gelassenheit
END:VEVENT
BEGIN:VEVENT
DTSTART;TZID=Europe/Berlin:20260423T123000
DTEND;TZID=Europe/Berlin:20260423T140000
DTSTAMP:20260423T123954
CREATED:20260415T121212Z
LAST-MODIFIED:20260417T112043Z
UID:10007815-1776947400-1776952800@kulturraum-prien.de
SUMMARY:Somatic Lab mit Kerstin Hilker
DESCRIPTION:Somatic Lab privat \nwww.kerstinhilker.de \ninfo@kerstinhilker.de
URL:https://kulturraum-prien.de/event/somatic-lab-mit-kerstin-hilker/
CATEGORIES:Selbsterfahrung
END:VEVENT
BEGIN:VEVENT
DTSTART;TZID=Europe/Berlin:20260423T153000
DTEND;TZID=Europe/Berlin:20260423T163000
DTSTAMP:20260423T123954
CREATED:20251103T163711Z
LAST-MODIFIED:20251103T163711Z
UID:10003832-1776958200-1776961800@kulturraum-prien.de
SUMMARY:Kids-Yoga 6-9 Jahre mit Maria Schauer
DESCRIPTION:MAHILA KIDS BALANCE \nKids-Yoga: 6 bis 9 Jahre \nHier darf spielerisch erkundet\, geatmet\, geträumt und gelauscht werden\, mit viel Raum für Bewegung\, Fantasie und erste kleine Entspannungsübungen.Kids-5er-Karte für 35 € \nPre-Teens Yoga: 9 bis 12 Jahre \nIn dieser Gruppe arbeiten wir mit stärkenden Übungen für mehr Achtsamkeit\, Selbstwahrnehmung und innere Ausgeglichenheit sowie altersgerecht und alltagsnah. \n5er-Karte für 40 € \nIch möchte Kindern einen achtsamen Raum schenken\, in dem sie auftanken dürfen.\nWo Bewegung und Ruhe\, Lachen und Stille gleichermaßen willkommen sind und jedes Kind gesehen wird\, so wie es ist. \nAnmeldung und Infos unter www.mahilasoul.de \n  \n 
URL:https://kulturraum-prien.de/event/kids-yoga-6-9-jahre-mit-maria-schauer-2-3/2026-04-23/
LOCATION:Kulturraum Prien\, Ernsdorfer Str. 2\, Prien\, 83209
CATEGORIES:Eltern-Kind-Angebote,Yoga, Pilates & Co - Balance und Stärke
END:VEVENT
BEGIN:VEVENT
DTSTART;TZID=Europe/Berlin:20260423T200000
DTEND;TZID=Europe/Berlin:20260423T220000
DTSTAMP:20260423T123954
CREATED:20251001T182358Z
LAST-MODIFIED:20251001T182358Z
UID:10005285-1776974400-1776981600@kulturraum-prien.de
SUMMARY:BIODANZA (für Fortgeschrittene) – System Rolando Toro® mit Eva Maria Boerboom
DESCRIPTION:Biodanza erleben mit Eva Maria\nmit Anmeldung: em@singen-tanzen-leben.de oder 0170 – 293 55 85\nwww.singen-tanzen-leben.de
URL:https://kulturraum-prien.de/event/biodanza-offener-abend-system-rolando-toro-mit-eva-maria-boerboom-5/
LOCATION:Kulturraum Prien\, Ernsdorfer Str. 2\, Prien\, 83209
CATEGORIES:Tanz & Bewegung - Ausdruck pur
END:VEVENT
END:VCALENDAR