BEGIN:VCALENDAR
VERSION:2.0
PRODID:-//Kulturraum Prien - ECPv6.15.20//NONSGML v1.0//EN
CALSCALE:GREGORIAN
METHOD:PUBLISH
X-WR-CALNAME:Kulturraum Prien
X-ORIGINAL-URL:https://kulturraum-prien.de
X-WR-CALDESC:Veranstaltungen für Kulturraum Prien
REFRESH-INTERVAL;VALUE=DURATION:PT1H
X-Robots-Tag:noindex
X-PUBLISHED-TTL:PT1H
BEGIN:VTIMEZONE
TZID:Europe/Berlin
BEGIN:DAYLIGHT
TZOFFSETFROM:+0100
TZOFFSETTO:+0200
TZNAME:CEST
DTSTART:20250330T010000
END:DAYLIGHT
BEGIN:STANDARD
TZOFFSETFROM:+0200
TZOFFSETTO:+0100
TZNAME:CET
DTSTART:20251026T010000
END:STANDARD
BEGIN:DAYLIGHT
TZOFFSETFROM:+0100
TZOFFSETTO:+0200
TZNAME:CEST
DTSTART:20260329T010000
END:DAYLIGHT
BEGIN:STANDARD
TZOFFSETFROM:+0200
TZOFFSETTO:+0100
TZNAME:CET
DTSTART:20261025T010000
END:STANDARD
BEGIN:DAYLIGHT
TZOFFSETFROM:+0100
TZOFFSETTO:+0200
TZNAME:CEST
DTSTART:20270328T010000
END:DAYLIGHT
BEGIN:STANDARD
TZOFFSETFROM:+0200
TZOFFSETTO:+0100
TZNAME:CET
DTSTART:20271031T010000
END:STANDARD
END:VTIMEZONE
BEGIN:VEVENT
DTSTART;TZID=Europe/Berlin:20260424T080000
DTEND;TZID=Europe/Berlin:20260424T090000
DTSTAMP:20260424T013814
CREATED:20251011T152537Z
LAST-MODIFIED:20260417T112120Z
UID:10005875-1777017600-1777021200@kulturraum-prien.de
SUMMARY:Pilates Somatic Flow mit Kerstin Hilker
DESCRIPTION:www.kerstinhilker.de \ninfo@kerstinhilker.de \n 
URL:https://kulturraum-prien.de/event/geblockt-pilates-somatic-flow-mit-kerstin-hilker-3/2026-04-24/
LOCATION:Kulturraum Prien\, Ernsdorfer Str. 2\, Prien\, 83209
CATEGORIES:Yoga, Pilates & Co - Balance und Stärke
END:VEVENT
BEGIN:VEVENT
DTSTART;TZID=Europe/Berlin:20260424T093000
DTEND;TZID=Europe/Berlin:20260424T103000
DTSTAMP:20260424T013814
CREATED:20260305T173932Z
LAST-MODIFIED:20260305T173932Z
UID:10007384-1777023000-1777026600@kulturraum-prien.de
SUMMARY:Kerstin Hilker privat
DESCRIPTION:info@kerstinhilker.de
URL:https://kulturraum-prien.de/event/kerstin-hilker-privat-27/
LOCATION:Kulturraum Prien\, Ernsdorfer Str. 2\, Prien\, 83209
CATEGORIES:Tanz & Bewegung - Ausdruck pur
END:VEVENT
BEGIN:VEVENT
DTSTART;TZID=Europe/Berlin:20260424T110000
DTEND;TZID=Europe/Berlin:20260424T120000
DTSTAMP:20260424T013814
CREATED:20260309T114542Z
LAST-MODIFIED:20260309T114542Z
UID:10007689-1777028400-1777032000@kulturraum-prien.de
SUMMARY:Kerstin Hilker privat
DESCRIPTION:info@kerstinhilker.de
URL:https://kulturraum-prien.de/event/kerstin-hilker-privat-29/
LOCATION:Kulturraum Prien\, Ernsdorfer Str. 2\, Prien\, 83209
CATEGORIES:Tanz & Bewegung - Ausdruck pur
END:VEVENT
END:VCALENDAR